Package: metabolomicsWorkbenchR Version: 1.21.0 Command: /home/biocbuild/bbs-3.23-bioc/R/bin/R CMD build --keep-empty-dirs --no-resave-data metabolomicsWorkbenchR StartedAt: 2025-11-13 18:30:38 -0500 (Thu, 13 Nov 2025) EndedAt: 2025-11-13 18:31:26 -0500 (Thu, 13 Nov 2025) EllapsedTime: 48.0 seconds RetCode: 0 Status: OK PackageFile: metabolomicsWorkbenchR_1.21.0.tar.gz PackageFileSize: 2.394 MiB