Package: metabolomicsWorkbenchR Version: 1.21.0 Command: /Library/Frameworks/R.framework/Resources/bin/R CMD INSTALL metabolomicsWorkbenchR StartedAt: 2025-11-13 15:18:45 -0500 (Thu, 13 Nov 2025) EndedAt: 2025-11-13 15:18:56 -0500 (Thu, 13 Nov 2025) EllapsedTime: 11.2 seconds RetCode: 0 Status: OK