Package: metabolomicsWorkbenchR Version: 1.21.0 Command: /Library/Frameworks/R.framework/Resources/bin/R CMD build --keep-empty-dirs --no-resave-data metabolomicsWorkbenchR StartedAt: 2025-11-13 16:55:52 -0500 (Thu, 13 Nov 2025) EndedAt: 2025-11-13 16:56:13 -0500 (Thu, 13 Nov 2025) EllapsedTime: 20.2 seconds RetCode: 0 Status: OK PackageFile: metabolomicsWorkbenchR_1.21.0.tar.gz PackageFileSize: 2.398 MiB