Package: metabinR Version: 1.13.0 Command: /Library/Frameworks/R.framework/Resources/bin/R CMD build --keep-empty-dirs --no-resave-data metabinR StartedAt: 2025-11-13 16:55:38 -0500 (Thu, 13 Nov 2025) EndedAt: 2025-11-13 16:55:58 -0500 (Thu, 13 Nov 2025) EllapsedTime: 20.2 seconds RetCode: 0 Status: OK PackageFile: metabinR_1.13.0.tar.gz PackageFileSize: 4.389 MiB