Package: metabCombiner Version: 1.21.0 Command: /Library/Frameworks/R.framework/Resources/bin/R CMD INSTALL metabCombiner StartedAt: 2025-11-12 15:21:33 -0500 (Wed, 12 Nov 2025) EndedAt: 2025-11-12 15:21:40 -0500 (Wed, 12 Nov 2025) EllapsedTime: 7.0 seconds RetCode: 0 Status: OK