Package: metabCombiner Version: 1.21.0 Command: /Library/Frameworks/R.framework/Resources/bin/R CMD build --keep-empty-dirs --no-resave-data metabCombiner StartedAt: 2025-11-13 16:55:38 -0500 (Thu, 13 Nov 2025) EndedAt: 2025-11-13 16:55:51 -0500 (Thu, 13 Nov 2025) EllapsedTime: 13.1 seconds RetCode: 0 Status: OK PackageFile: metabCombiner_1.21.0.tar.gz PackageFileSize: 2.553 MiB