Package: metaSeq Version: 1.51.0 Command: /home/biocbuild/bbs-3.23-bioc/R/bin/R CMD INSTALL metaSeq StartedAt: 2025-11-16 15:14:11 -0500 (Sun, 16 Nov 2025) EndedAt: 2025-11-16 15:14:17 -0500 (Sun, 16 Nov 2025) EllapsedTime: 6.7 seconds RetCode: 0 Status: OK