Package: metaSeq Version: 1.51.0 Command: /Library/Frameworks/R.framework/Resources/bin/R CMD INSTALL metaSeq StartedAt: 2025-11-13 15:07:21 -0500 (Thu, 13 Nov 2025) EndedAt: 2025-11-13 15:07:24 -0500 (Thu, 13 Nov 2025) EllapsedTime: 3.0 seconds RetCode: 0 Status: OK