Package: metaSeq Version: 1.51.0 Command: /Library/Frameworks/R.framework/Resources/bin/R CMD build --keep-empty-dirs --no-resave-data metaSeq StartedAt: 2025-11-13 16:56:34 -0500 (Thu, 13 Nov 2025) EndedAt: 2025-11-13 16:56:41 -0500 (Thu, 13 Nov 2025) EllapsedTime: 7.1 seconds RetCode: 0 Status: OK PackageFile: metaSeq_1.51.0.tar.gz PackageFileSize: 6.198 MiB