Package: metaSeq Version: 1.51.0 Command: rm -rf metaSeq.buildbin-libdir && mkdir metaSeq.buildbin-libdir && /Users/biocbuild/BBS/utils/build-universal.sh metaSeq_1.51.0.tar.gz /Library/Frameworks/R.framework/Resources/bin/R metaSeq.buildbin-libdir StartedAt: 2025-11-12 21:02:18 -0500 (Wed, 12 Nov 2025) EndedAt: 2025-11-12 21:02:23 -0500 (Wed, 12 Nov 2025) EllapsedTime: 5.1 seconds RetCode: 0 Status: OK PackageFile: metaSeq_1.51.0.tgz PackageFileSize: 6.181 MiB