Package: messina Version: 1.47.0 Command: /home/biocbuild/bbs-3.23-bioc/R/bin/R CMD INSTALL messina StartedAt: 2025-11-14 15:08:42 -0500 (Fri, 14 Nov 2025) EndedAt: 2025-11-14 15:09:30 -0500 (Fri, 14 Nov 2025) EllapsedTime: 47.8 seconds RetCode: 0 Status: OK