Package: messina Version: 1.47.0 Command: /home/biocbuild/bbs-3.23-bioc/R/bin/R CMD build --keep-empty-dirs --no-resave-data messina StartedAt: 2025-11-14 18:30:26 -0500 (Fri, 14 Nov 2025) EndedAt: 2025-11-14 18:31:46 -0500 (Fri, 14 Nov 2025) EllapsedTime: 79.1 seconds RetCode: 0 Status: OK PackageFile: messina_1.47.0.tar.gz PackageFileSize: 297.5 KiB