Package: messina Version: 1.47.0 Command: /Library/Frameworks/R.framework/Resources/bin/R CMD INSTALL messina StartedAt: 2025-11-14 15:05:06 -0500 (Fri, 14 Nov 2025) EndedAt: 2025-11-14 15:05:15 -0500 (Fri, 14 Nov 2025) EllapsedTime: 9.2 seconds RetCode: 0 Status: OK