Package: messina Version: 1.47.0 Command: /Library/Frameworks/R.framework/Resources/bin/R CMD build --keep-empty-dirs --no-resave-data messina StartedAt: 2025-11-14 16:52:33 -0500 (Fri, 14 Nov 2025) EndedAt: 2025-11-14 16:53:04 -0500 (Fri, 14 Nov 2025) EllapsedTime: 30.4 seconds RetCode: 0 Status: OK PackageFile: messina_1.47.0.tar.gz PackageFileSize: 297.4 KiB