Package: messina Version: 1.47.0 Command: rm -rf messina.buildbin-libdir && mkdir messina.buildbin-libdir && /Users/biocbuild/BBS/utils/build-universal.sh messina_1.47.0.tar.gz /Library/Frameworks/R.framework/Resources/bin/R messina.buildbin-libdir StartedAt: 2025-11-14 23:39:32 -0500 (Fri, 14 Nov 2025) EndedAt: 2025-11-14 23:39:43 -0500 (Fri, 14 Nov 2025) EllapsedTime: 11.2 seconds RetCode: 0 Status: OK PackageFile: messina_1.47.0.tgz PackageFileSize: 537.1 KiB