Package: messina Version: 1.47.0 Maintainer: Mark Pinese MaintainerEmail: mpinese at ccia.org.au git_url: https://git.bioconductor.org/packages/messina git_branch: devel git_last_commit: 49bc1b6 git_last_commit_date: 2025-10-29 10:18:44 -0500 (Wed, 29 Oct 2025)