Package: meshr Version: 2.17.0 Command: /home/biocbuild/bbs-3.23-bioc/R/bin/R CMD INSTALL meshr StartedAt: 2025-11-13 15:30:22 -0500 (Thu, 13 Nov 2025) EndedAt: 2025-11-13 15:30:44 -0500 (Thu, 13 Nov 2025) EllapsedTime: 22.6 seconds RetCode: 0 Status: OK