Package: meshr Version: 2.17.0 Command: /home/biocbuild/bbs-3.23-bioc/R/bin/R CMD build --keep-empty-dirs --no-resave-data meshr StartedAt: 2025-11-13 18:29:57 -0500 (Thu, 13 Nov 2025) EndedAt: 2025-11-13 18:30:20 -0500 (Thu, 13 Nov 2025) EllapsedTime: 23.0 seconds RetCode: 0 Status: OK PackageFile: meshr_2.17.0.tar.gz PackageFileSize: 1002 KiB