Package: meshr Version: 2.17.0 Command: /Library/Frameworks/R.framework/Resources/bin/R CMD INSTALL meshr StartedAt: 2025-11-12 15:32:57 -0500 (Wed, 12 Nov 2025) EndedAt: 2025-11-12 15:33:04 -0500 (Wed, 12 Nov 2025) EllapsedTime: 8.0 seconds RetCode: 0 Status: OK