Package: meshr Version: 2.17.0 Maintainer: Koki Tsuyuzaki MaintainerEmail: k.t.the-answer at hotmail.co.jp git_url: https://git.bioconductor.org/packages/meshr git_branch: devel git_last_commit: edcebb9 git_last_commit_date: 2025-10-29 10:19:23 -0500 (Wed, 29 Oct 2025)