Package: meshes Version: 1.37.0 Command: /home/biocbuild/bbs-3.23-bioc/R/bin/R CMD INSTALL meshes StartedAt: 2025-11-13 15:47:08 -0500 (Thu, 13 Nov 2025) EndedAt: 2025-11-13 15:47:34 -0500 (Thu, 13 Nov 2025) EllapsedTime: 26.4 seconds RetCode: 0 Status: OK