Package: meshes Version: 1.37.0 Command: /home/biocbuild/bbs-3.23-bioc/R/bin/R CMD build --keep-empty-dirs --no-resave-data meshes StartedAt: 2025-11-11 18:33:55 -0500 (Tue, 11 Nov 2025) EndedAt: 2025-11-11 18:34:22 -0500 (Tue, 11 Nov 2025) EllapsedTime: 27.0 seconds RetCode: 0 Status: OK PackageFile: meshes_1.37.0.tar.gz PackageFileSize: 922.1 KiB