Package: meshes Version: 1.37.0 Command: /Library/Frameworks/R.framework/Resources/bin/R CMD build --keep-empty-dirs --no-resave-data meshes StartedAt: 2025-11-12 16:39:44 -0500 (Wed, 12 Nov 2025) EndedAt: 2025-11-12 16:39:57 -0500 (Wed, 12 Nov 2025) EllapsedTime: 12.2 seconds RetCode: 0 Status: OK PackageFile: meshes_1.37.0.tar.gz PackageFileSize: 922.1 KiB