Package: meshes Version: 1.37.0 Maintainer: Guangchuang Yu MaintainerEmail: guangchuangyu at gmail.com git_url: https://git.bioconductor.org/packages/meshes git_branch: devel git_last_commit: b03ea7f git_last_commit_date: 2025-10-29 10:35:16 -0500 (Wed, 29 Oct 2025)