Package: mdp Version: 1.31.0 Command: /Library/Frameworks/R.framework/Resources/bin/R CMD INSTALL mdp StartedAt: 2025-11-13 15:04:44 -0500 (Thu, 13 Nov 2025) EndedAt: 2025-11-13 15:04:58 -0500 (Thu, 13 Nov 2025) EllapsedTime: 14.4 seconds RetCode: 0 Status: OK