Package: mdp Version: 1.31.0 Command: /Library/Frameworks/R.framework/Resources/bin/R CMD build --keep-empty-dirs --no-resave-data mdp StartedAt: 2025-11-13 16:54:55 -0500 (Thu, 13 Nov 2025) EndedAt: 2025-11-13 16:55:04 -0500 (Thu, 13 Nov 2025) EllapsedTime: 9.1 seconds RetCode: 0 Status: OK PackageFile: mdp_1.31.0.tar.gz PackageFileSize: 4.4 MiB