Package: mdp Version: 1.31.0 Maintainer: Helder Nakaya MaintainerEmail: hnakaya at usp.br git_url: https://git.bioconductor.org/packages/mdp git_branch: devel git_last_commit: d77d61e git_last_commit_date: 2025-10-29 10:44:58 -0500 (Wed, 29 Oct 2025)