Package: mbkmeans Version: 1.27.0 Command: /home/biocbuild/bbs-3.23-bioc/R/bin/R CMD INSTALL mbkmeans StartedAt: 2025-11-14 15:19:39 -0500 (Fri, 14 Nov 2025) EndedAt: 2025-11-14 15:20:28 -0500 (Fri, 14 Nov 2025) EllapsedTime: 48.9 seconds RetCode: 0 Status: OK