Package: mbkmeans Version: 1.27.0 Command: /home/biocbuild/bbs-3.23-bioc/R/bin/R CMD build --keep-empty-dirs --no-resave-data mbkmeans StartedAt: 2025-11-14 18:28:15 -0500 (Fri, 14 Nov 2025) EndedAt: 2025-11-14 18:29:47 -0500 (Fri, 14 Nov 2025) EllapsedTime: 92.1 seconds RetCode: 0 Status: OK PackageFile: mbkmeans_1.27.0.tar.gz PackageFileSize: 293.1 KiB