Package: mbkmeans Version: 1.27.0 Command: /Library/Frameworks/R.framework/Resources/bin/R CMD INSTALL mbkmeans StartedAt: 2025-11-13 15:12:00 -0500 (Thu, 13 Nov 2025) EndedAt: 2025-11-13 15:12:16 -0500 (Thu, 13 Nov 2025) EllapsedTime: 16.0 seconds RetCode: 0 Status: OK