Package: mbkmeans Version: 1.27.0 Command: /Library/Frameworks/R.framework/Resources/bin/R CMD build --keep-empty-dirs --no-resave-data mbkmeans StartedAt: 2025-11-13 16:54:29 -0500 (Thu, 13 Nov 2025) EndedAt: 2025-11-13 16:55:06 -0500 (Thu, 13 Nov 2025) EllapsedTime: 36.4 seconds RetCode: 0 Status: OK PackageFile: mbkmeans_1.27.0.tar.gz PackageFileSize: 268.8 KiB