Package: mbkmeans Version: 1.27.0 Command: rm -rf mbkmeans.buildbin-libdir && mkdir mbkmeans.buildbin-libdir && /Users/biocbuild/BBS/utils/build-universal.sh mbkmeans_1.27.0.tar.gz /Library/Frameworks/R.framework/Resources/bin/R mbkmeans.buildbin-libdir StartedAt: 2025-11-14 23:39:08 -0500 (Fri, 14 Nov 2025) EndedAt: 2025-11-14 23:39:29 -0500 (Fri, 14 Nov 2025) EllapsedTime: 20.4 seconds RetCode: 0 Status: OK PackageFile: mbkmeans_1.27.0.tgz PackageFileSize: 433.8 KiB