Package: mbkmeans Version: 1.27.0 Maintainer: Davide Risso MaintainerEmail: risso.davide at gmail.com git_url: https://git.bioconductor.org/packages/mbkmeans git_branch: devel git_last_commit: 2aa9036 git_last_commit_date: 2025-10-29 10:51:15 -0500 (Wed, 29 Oct 2025)