Package: marray Version: 1.89.0 Command: /home/biocbuild/bbs-3.23-bioc/R/bin/R CMD INSTALL marray StartedAt: 2025-11-14 15:03:43 -0500 (Fri, 14 Nov 2025) EndedAt: 2025-11-14 15:03:55 -0500 (Fri, 14 Nov 2025) EllapsedTime: 12.0 seconds RetCode: 0 Status: OK