Package: marray Version: 1.89.0 Command: /Library/Frameworks/R.framework/Resources/bin/R CMD build --keep-empty-dirs --no-resave-data marray StartedAt: 2025-11-14 16:49:55 -0500 (Fri, 14 Nov 2025) EndedAt: 2025-11-14 16:50:20 -0500 (Fri, 14 Nov 2025) EllapsedTime: 24.3 seconds RetCode: 0 Status: OK PackageFile: marray_1.89.0.tar.gz PackageFileSize: 5.637 MiB