Package: marray Version: 1.89.0 Command: rm -rf marray.buildbin-libdir && mkdir marray.buildbin-libdir && /Users/biocbuild/BBS/utils/build-universal.sh marray_1.89.0.tar.gz /Library/Frameworks/R.framework/Resources/bin/R marray.buildbin-libdir StartedAt: 2025-11-14 23:38:56 -0500 (Fri, 14 Nov 2025) EndedAt: 2025-11-14 23:39:02 -0500 (Fri, 14 Nov 2025) EllapsedTime: 6.1 seconds RetCode: 0 Status: OK PackageFile: marray_1.89.0.tgz PackageFileSize: 6.079 MiB