Package: marray Version: 1.89.0 Maintainer: Yee Hwa (Jean) Yang MaintainerEmail: jean at biostat.ucsf.edu git_url: https://git.bioconductor.org/packages/marray git_branch: devel git_last_commit: 7dc98b0 git_last_commit_date: 2025-10-29 09:54:52 -0500 (Wed, 29 Oct 2025)