Package: mapscape Version: 1.35.0 Command: /Library/Frameworks/R.framework/Resources/bin/R CMD INSTALL mapscape StartedAt: 2025-11-12 15:18:44 -0500 (Wed, 12 Nov 2025) EndedAt: 2025-11-12 15:19:03 -0500 (Wed, 12 Nov 2025) EllapsedTime: 18.8 seconds RetCode: 0 Status: OK