Package: mapscape Version: 1.35.0 Maintainer: Maia Smith MaintainerEmail: maiaannesmith at gmail.com git_url: https://git.bioconductor.org/packages/mapscape git_branch: devel git_last_commit: cb371d5 git_last_commit_date: 2025-10-29 10:36:58 -0500 (Wed, 29 Oct 2025)