Package: makecdfenv Version: 1.87.0 Command: /home/biocbuild/bbs-3.23-bioc/R/bin/R CMD INSTALL makecdfenv StartedAt: 2025-11-13 15:12:59 -0500 (Thu, 13 Nov 2025) EndedAt: 2025-11-13 15:13:04 -0500 (Thu, 13 Nov 2025) EllapsedTime: 5.4 seconds RetCode: 0 Status: OK