Package: makecdfenv Version: 1.87.0 Command: /home/biocbuild/bbs-3.23-bioc/R/bin/R CMD build --keep-empty-dirs --no-resave-data makecdfenv StartedAt: 2025-11-13 18:24:08 -0500 (Thu, 13 Nov 2025) EndedAt: 2025-11-13 18:24:17 -0500 (Thu, 13 Nov 2025) EllapsedTime: 9.0 seconds RetCode: 0 Status: OK PackageFile: makecdfenv_1.87.0.tar.gz PackageFileSize: 3.259 MiB