Package: makecdfenv Version: 1.87.0 Command: /Library/Frameworks/R.framework/Resources/bin/R CMD INSTALL makecdfenv StartedAt: 2025-11-13 15:07:05 -0500 (Thu, 13 Nov 2025) EndedAt: 2025-11-13 15:07:09 -0500 (Thu, 13 Nov 2025) EllapsedTime: 4.3 seconds RetCode: 0 Status: OK