Package: makecdfenv Version: 1.87.0 Command: /Library/Frameworks/R.framework/Resources/bin/R CMD build --keep-empty-dirs --no-resave-data makecdfenv StartedAt: 2025-11-13 16:52:26 -0500 (Thu, 13 Nov 2025) EndedAt: 2025-11-13 16:52:33 -0500 (Thu, 13 Nov 2025) EllapsedTime: 7.1 seconds RetCode: 0 Status: OK PackageFile: makecdfenv_1.87.0.tar.gz PackageFileSize: 3.259 MiB