Package: makecdfenv Version: 1.87.0 Command: rm -rf makecdfenv.buildbin-libdir && mkdir makecdfenv.buildbin-libdir && /Users/biocbuild/BBS/utils/build-universal.sh makecdfenv_1.87.0.tar.gz /Library/Frameworks/R.framework/Resources/bin/R makecdfenv.buildbin-libdir StartedAt: 2025-11-13 23:43:43 -0500 (Thu, 13 Nov 2025) EndedAt: 2025-11-13 23:43:49 -0500 (Thu, 13 Nov 2025) EllapsedTime: 6.1 seconds RetCode: 0 Status: OK PackageFile: makecdfenv_1.87.0.tgz PackageFileSize: 3.425 MiB