Package: makecdfenv Version: 1.87.0 Maintainer: James W. MacDonald MaintainerEmail: jmacdon at u.washington.edu git_url: https://git.bioconductor.org/packages/makecdfenv git_branch: devel git_last_commit: 7eb6d83 git_last_commit_date: 2025-10-29 09:42:16 -0500 (Wed, 29 Oct 2025)