Package: magpie Version: 1.11.0 Command: /Library/Frameworks/R.framework/Resources/bin/R CMD build --keep-empty-dirs --no-resave-data magpie StartedAt: 2025-11-14 16:49:14 -0500 (Fri, 14 Nov 2025) EndedAt: 2025-11-14 16:49:41 -0500 (Fri, 14 Nov 2025) EllapsedTime: 27.3 seconds RetCode: 0 Status: OK PackageFile: magpie_1.11.0.tar.gz PackageFileSize: 2.289 MiB