Package: magpie Version: 1.11.0 Command: rm -rf magpie.buildbin-libdir && mkdir magpie.buildbin-libdir && /Users/biocbuild/BBS/utils/build-universal.sh magpie_1.11.0.tar.gz /Library/Frameworks/R.framework/Resources/bin/R magpie.buildbin-libdir StartedAt: 2025-11-14 23:38:46 -0500 (Fri, 14 Nov 2025) EndedAt: 2025-11-14 23:39:06 -0500 (Fri, 14 Nov 2025) EllapsedTime: 20.6 seconds RetCode: 0 Status: OK PackageFile: magpie_1.11.0.tgz PackageFileSize: 2.114 MiB