Package: maftools Version: 2.27.0 Command: /home/biocbuild/bbs-3.23-bioc/R/bin/R CMD INSTALL maftools StartedAt: 2025-11-13 15:10:56 -0500 (Thu, 13 Nov 2025) EndedAt: 2025-11-13 15:11:17 -0500 (Thu, 13 Nov 2025) EllapsedTime: 20.7 seconds RetCode: 0 Status: OK