Package: maftools Version: 2.27.0 Command: /Library/Frameworks/R.framework/Resources/bin/R CMD INSTALL maftools StartedAt: 2025-11-14 15:06:45 -0500 (Fri, 14 Nov 2025) EndedAt: 2025-11-14 15:06:51 -0500 (Fri, 14 Nov 2025) EllapsedTime: 6.7 seconds RetCode: 0 Status: OK