Package: maftools Version: 2.27.0 Command: /Library/Frameworks/R.framework/Resources/bin/R CMD build --keep-empty-dirs --no-resave-data maftools StartedAt: 2025-11-14 16:49:04 -0500 (Fri, 14 Nov 2025) EndedAt: 2025-11-14 16:50:33 -0500 (Fri, 14 Nov 2025) EllapsedTime: 89.0 seconds RetCode: 0 Status: OK PackageFile: maftools_2.27.0.tar.gz PackageFileSize: 12.3 MiB